BEGIN:VCALENDAR
VERSION:2.0
PRODID:-//Sassy Silver - ECPv6.15.20//NONSGML v1.0//EN
CALSCALE:GREGORIAN
METHOD:PUBLISH
X-ORIGINAL-URL:https://sassysilverbeaddesigns.com
X-WR-CALDESC:Events for Sassy Silver
REFRESH-INTERVAL;VALUE=DURATION:PT1H
X-Robots-Tag:noindex
X-PUBLISHED-TTL:PT1H
BEGIN:VTIMEZONE
TZID:UTC
BEGIN:STANDARD
TZOFFSETFROM:+0000
TZOFFSETTO:+0000
TZNAME:UTC
DTSTART:20200101T000000
END:STANDARD
END:VTIMEZONE
BEGIN:VEVENT
DTSTART;TZID=UTC:20250130T080000
DTEND;TZID=UTC:20250203T170000
DTSTAMP:20260421T131752
CREATED:20240828T124416Z
LAST-MODIFIED:20240828T124416Z
UID:7091-1738224000-1738602000@sassysilverbeaddesigns.com
SUMMARY:Heart of the Desert Dog Classic
DESCRIPTION:Jan 30th (8 am – 5 pm)\nFeb 3th (8 am – 5 pm)\nKennel Clubs Lost Dutchman & Saguaro State\nArizona State Fairgrounds\n1826 W. McDowell Rd.
URL:https://sassysilverbeaddesigns.com/event/heart-of-the-desert-dog-classic/
LOCATION:Kennel Clubs Lost Dutchman & Saguaro State Arizona State Fairgrounds 1826 W. McDowell Rd.
END:VEVENT
BEGIN:VEVENT
DTSTART;TZID=UTC:20250102T080000
DTEND;TZID=UTC:20250105T170000
DTSTAMP:20260421T131752
CREATED:20240828T123534Z
LAST-MODIFIED:20240828T123624Z
UID:7086-1735804800-1736096400@sassysilverbeaddesigns.com
SUMMARY:Kennel Club of Palm Springs Dog Show
DESCRIPTION:Jan 2th – 5th (8 am – 5 pm)\nEmpire Polo Grounds\nIndio CA
URL:https://sassysilverbeaddesigns.com/event/kennel-club-of-palm-springs-dog-show/
LOCATION:Empire Polo Grounds Indio CA
END:VEVENT
BEGIN:VEVENT
DTSTART;TZID=UTC:20241205T090000
DTEND;TZID=UTC:20241214T160000
DTSTAMP:20260421T131752
CREATED:20240828T122900Z
LAST-MODIFIED:20240828T122900Z
UID:7082-1733389200-1734192000@sassysilverbeaddesigns.com
SUMMARY:NFR Finals Cowboy Christmas
DESCRIPTION:Dec 5th – 14th (9 am – 4 pm)\nLas Vegas Convention Center South Hall\n3150 Paradise Rd Las Vegas NV\nBooth #2732
URL:https://sassysilverbeaddesigns.com/event/nfr-finals-cowboy-christmas-3/
LOCATION:Las Vegas Convention Center South Hall 3150 Paradise Rd Las Vegas NV Booth #2732
END:VEVENT
BEGIN:VEVENT
DTSTART;TZID=UTC:20241108T100000
DTEND;TZID=UTC:20241110T160000
DTSTAMP:20260421T131752
CREATED:20240828T122341Z
LAST-MODIFIED:20240828T122341Z
UID:7079-1731060000-1731254400@sassysilverbeaddesigns.com
SUMMARY:Fountain Hills Art Festival
DESCRIPTION:Nov 8th (10 am – 5 pm)\nNov 9th (10 am – 5 pm)\nNov 10th (10 am – 4 pm)\nFountain Hills AZ\nBooth #A-21
URL:https://sassysilverbeaddesigns.com/event/fountain-hills-art-festival/
LOCATION:Fountain Hills AZ Booth #A-21
END:VEVENT
BEGIN:VEVENT
DTSTART;TZID=UTC:20241005T090000
DTEND;TZID=UTC:20241006T160000
DTSTAMP:20260421T131752
CREATED:20240828T121810Z
LAST-MODIFIED:20240828T121810Z
UID:7075-1728118800-1728230400@sassysilverbeaddesigns.com
SUMMARY:Boulder City Art in the Park
DESCRIPTION:Oct 5th (9 am – 5 pm)\nOct 6th (9 am – 4 pm)\nBoulder City NV\nBicentenial Park\nBooth #
URL:https://sassysilverbeaddesigns.com/event/boulder-city-art-in-the-park/
LOCATION:Boulder City NV Bicentenial Park Booth #
END:VEVENT
BEGIN:VEVENT
DTSTART;TZID=UTC:20240928T090000
DTEND;TZID=UTC:20240929T170000
DTSTAMP:20260421T131752
CREATED:20240828T115909Z
LAST-MODIFIED:20240828T120739Z
UID:7064-1727514000-1727629200@sassysilverbeaddesigns.com
SUMMARY:105th Geneo Candy Dance Art Festival
DESCRIPTION:Sept 28th – 29th (9 am-5 pm)\nGeneo NV\nBooth #OH26 (Orchard House)
URL:https://sassysilverbeaddesigns.com/event/105th-geneo-candy-dance-art-festival/
LOCATION:Geneo NV Booth #OH26 (Orchard House)
END:VEVENT
BEGIN:VEVENT
DTSTART;TZID=UTC:20240919T080000
DTEND;TZID=UTC:20240922T170000
DTSTAMP:20260421T131752
CREATED:20240828T115216Z
LAST-MODIFIED:20240828T120339Z
UID:7060-1726732800-1727024400@sassysilverbeaddesigns.com
SUMMARY:Kennel Club of Prescott Valley Dog Show
DESCRIPTION:Sept  19th (8 am – 5 pm)\nSept 22th (8 am – 5 pm)\nFinlay Toyota Center\n3201 N. Main St\nPrescott Valley AZ
URL:https://sassysilverbeaddesigns.com/event/kennel-club-of-prescott-valley-dog-show/
LOCATION:Finlay Toyota Center 3201 N. Main St Prescott Valley AZ
END:VEVENT
BEGIN:VEVENT
DTSTART;VALUE=DATE:20231207
DTEND;VALUE=DATE:20231217
DTSTAMP:20260421T131752
CREATED:20231017T201457Z
LAST-MODIFIED:20231017T201622Z
UID:7028-1701907200-1702771199@sassysilverbeaddesigns.com
SUMMARY:Cowboy Christmas (NFR Finals)
DESCRIPTION:Cowboy Christmas (NFR Finals) \n  \n\nDec 7th -16th (9 am -4 pm)\nLas Vegas Convention Center South Hall\n(Booth #2732)
URL:https://sassysilverbeaddesigns.com/event/cowboy-christmas-nfr-finals/
LOCATION:Las Vegas Convention Center South Hall
END:VEVENT
BEGIN:VEVENT
DTSTART;VALUE=DATE:20231124
DTEND;VALUE=DATE:20231127
DTSTAMP:20260421T131752
CREATED:20231017T201349Z
LAST-MODIFIED:20231017T201349Z
UID:7026-1700784000-1701043199@sassysilverbeaddesigns.com
SUMMARY:Scottsdale Fiesta Dog Show
DESCRIPTION:Scottsdale Fiesta Dog Show\nWestworld North Hall\nScottsdale\, AZ\nNov 24th – 26th (8 am – 5 pm)
URL:https://sassysilverbeaddesigns.com/event/scottsdale-fiesta-dog-show/
END:VEVENT
BEGIN:VEVENT
DTSTART;VALUE=DATE:20231110
DTEND;VALUE=DATE:20231113
DTSTAMP:20260421T131752
CREATED:20231017T201221Z
LAST-MODIFIED:20231017T201221Z
UID:7024-1699574400-1699833599@sassysilverbeaddesigns.com
SUMMARY:Fall Fountain Festival of Fine Arts & Crafts
DESCRIPTION:Fall Fountain Festival of Fine Arts & Crafts\nFountain Hills\, AZ \nNov 10th – 12th\nFri Sat (10 am – 5 pm)\nSun (10 am – 4 pm)
URL:https://sassysilverbeaddesigns.com/event/fall-fountain-festival-of-fine-arts-crafts/
END:VEVENT
BEGIN:VEVENT
DTSTART;VALUE=DATE:20231104
DTEND;VALUE=DATE:20231106
DTSTAMP:20260421T131752
CREATED:20231017T200921Z
LAST-MODIFIED:20231017T200953Z
UID:7021-1699056000-1699228799@sassysilverbeaddesigns.com
SUMMARY:Litchfield Park Art Festival
DESCRIPTION:Nov 4th (9 am – 5 pm)\nNov 5th (9 am -4 pm)\nLitchfield Park\, AZ\nWe’re on the waitlist please contact us to see if we have been accepted
URL:https://sassysilverbeaddesigns.com/event/litchfield-park-art-festival/
END:VEVENT
BEGIN:VEVENT
DTSTART;TZID=UTC:20221201T090000
DTEND;TZID=UTC:20221210T160000
DTSTAMP:20260421T131752
CREATED:20220224T231713Z
LAST-MODIFIED:20220224T231713Z
UID:6986-1669885200-1670688000@sassysilverbeaddesigns.com
SUMMARY:NFR Finals Cowboy Christmas
DESCRIPTION:NFR Finals Cowboy Christmas\n\nWhere: Las Vegas Convention Center / South Hall Booth #2732\nWhen: Dec 1-10  9-4
URL:https://sassysilverbeaddesigns.com/event/nfr-finals-cowboy-christmas-2/
LOCATION:Las Vegas Convention Center South Hall
END:VEVENT
BEGIN:VEVENT
DTSTART;TZID=UTC:20221001T090000
DTEND;TZID=UTC:20221002T170000
DTSTAMP:20260421T131752
CREATED:20220224T231604Z
LAST-MODIFIED:20220224T231604Z
UID:6984-1664614800-1664730000@sassysilverbeaddesigns.com
SUMMARY:Art in the Park
DESCRIPTION:Art in the Park\nWhere: Boulder City NV Bicentennial Park Booth #323\n\nWhen: Oct 1-2 Sat 9-5 & Sun 9-4
URL:https://sassysilverbeaddesigns.com/event/art-in-the-park-2/
LOCATION:Art in the Park – Boulder City\, NV\, 1320 Colorado St\, Boulder City\, NV\, 89005\, United States
END:VEVENT
BEGIN:VEVENT
DTSTART;VALUE=DATE:20220924
DTEND;VALUE=DATE:20220926
DTSTAMP:20260421T131752
CREATED:20220224T231457Z
LAST-MODIFIED:20220224T231457Z
UID:6982-1663977600-1664150399@sassysilverbeaddesigns.com
SUMMARY:Candy Dance
DESCRIPTION:Candy Dance\nWhere: Geneo NV  Booth at Orchard House\n\nWhen: Sept 24-25
URL:https://sassysilverbeaddesigns.com/event/candy-dance/
LOCATION:Candy Dance Arts & Crafts Faire\, Geneo\, Nevada
END:VEVENT
BEGIN:VEVENT
DTSTART;TZID=UTC:20220609T090000
DTEND;TZID=UTC:20220612T180000
DTSTAMP:20260421T131752
CREATED:20220224T231247Z
LAST-MODIFIED:20220224T231339Z
UID:6974-1654765200-1655056800@sassysilverbeaddesigns.com
SUMMARY:Woofstock Dog Show
DESCRIPTION:Woofstock Dog Show\nWhere: Solano County Fairgrounds 900 Fairgrounds Dr Vallejo CA\n\nWhen: June 9-12 Hours 9-6
URL:https://sassysilverbeaddesigns.com/event/woofstock-dog-show/
LOCATION:Solano County Fairgrounds\, 900 Fairgrounds Dr\, Vallejo\, CA\, 94589\, United States
END:VEVENT
BEGIN:VEVENT
DTSTART;VALUE=DATE:20220527
DTEND;VALUE=DATE:20220531
DTSTAMP:20260421T131752
CREATED:20220224T230056Z
LAST-MODIFIED:20220224T230307Z
UID:6965-1653609600-1653955199@sassysilverbeaddesigns.com
SUMMARY:Art in the Park & Mule Days
DESCRIPTION:Art in the Park & Mule Days\nBishop\, CA\nMay 27-30 Memorial Day Weekend\n\nFri-Sun Hours 9-6 Mon 9-2
URL:https://sassysilverbeaddesigns.com/event/art-in-the-park-mule-days/
LOCATION:Art in the Park & Mule Days – Bishop\, CA\, Bishop\, CA\, United States
END:VEVENT
BEGIN:VEVENT
DTSTART;TZID=UTC:20220323T090000
DTEND;TZID=UTC:20220327T180000
DTSTAMP:20260421T131752
CREATED:20220224T230531Z
LAST-MODIFIED:20220224T230548Z
UID:6971-1648026000-1648404000@sassysilverbeaddesigns.com
SUMMARY:Cactus Classic Reining
DESCRIPTION:Cactus Classic Reining\n\nAddress: Westworld 16601 N. Pima Rd Scottsdale AZ\n\nWhen: March 23-27 Hours 9-6 \n\nBooth Location: South side on the concourse of the Equidome
URL:https://sassysilverbeaddesigns.com/event/cactus-classic-reining/
LOCATION:Westworld\, 16601 N. Pima Rd\, Scottsdale\, AZ\, 85260\, United States
END:VEVENT
BEGIN:VEVENT
DTSTART;TZID=UTC:20220305T090000
DTEND;TZID=UTC:20220313T180000
DTSTAMP:20260421T131752
CREATED:20220224T225225Z
LAST-MODIFIED:20220224T230353Z
UID:6959-1646470800-1647194400@sassysilverbeaddesigns.com
SUMMARY:Arizona Sun Circuit
DESCRIPTION:Arizona Sun Circuit\n\nWhere: Westworld 16601 N. Pima Rd Scottsdale AZ\n\nWhen: March 5-13 Hours 9-6\n\nBooth Location: Outside on the south side of Wendell Arena
URL:https://sassysilverbeaddesigns.com/event/arizona-sun-circuit/
LOCATION:Westworld\, 16601 N. Pima Rd\, Scottsdale\, AZ\, 85260\, United States
END:VEVENT
BEGIN:VEVENT
DTSTART;VALUE=DATE:20211202
DTEND;VALUE=DATE:20211212
DTSTAMP:20260421T131752
CREATED:20210623T172945Z
LAST-MODIFIED:20210623T172945Z
UID:6951-1638403200-1639267199@sassysilverbeaddesigns.com
SUMMARY:Cowboy Christmas 2021
DESCRIPTION:We will be at the South Hall Booth #2732 (East side) from 9:00 am to 5:00 pm Dec 2nd – Dec 11th.
URL:https://sassysilverbeaddesigns.com/event/cowboy-christmas-2021/
LOCATION:Las Vegas Convention Center\, 3150 Paradise Rd.\, Las Vegas\, NV\, 89109\, United States
END:VEVENT
BEGIN:VEVENT
DTSTART;VALUE=DATE:20211030
DTEND;VALUE=DATE:20211107
DTSTAMP:20260421T131752
CREATED:20210623T172004Z
LAST-MODIFIED:20210623T172004Z
UID:6946-1635552000-1636243199@sassysilverbeaddesigns.com
SUMMARY:PBR World Finals Week Western Gift Show
DESCRIPTION:
URL:https://sassysilverbeaddesigns.com/event/pbr-world-finals-week-western-gift-show/
LOCATION:South Point Arena & Equestrian Center\, 9777 Las Vegas Blvd South\, Las Vegas\, NV\, 89183\, United States
END:VEVENT
BEGIN:VEVENT
DTSTART;VALUE=DATE:20211002
DTEND;VALUE=DATE:20211004
DTSTAMP:20260421T131752
CREATED:20210623T172453Z
LAST-MODIFIED:20210623T172453Z
UID:6948-1633132800-1633305599@sassysilverbeaddesigns.com
SUMMARY:Art in the Park
DESCRIPTION:Oct 2 & 3 2021\nSat 9-5 & Sun 9-4\nBoulder City NV\nBicentennial Park Booth #320
URL:https://sassysilverbeaddesigns.com/event/art-in-the-park/
LOCATION:Art in the Park\, Boulder\, CO\, United States
END:VEVENT
BEGIN:VEVENT
DTSTART;VALUE=DATE:20210925
DTEND;VALUE=DATE:20210927
DTSTAMP:20260421T131752
CREATED:20210623T165157Z
LAST-MODIFIED:20210623T165157Z
UID:6936-1632528000-1632700799@sassysilverbeaddesigns.com
SUMMARY:Candy Dance Arts & Crafts Fair
DESCRIPTION:We will be at our booth from 9:00am to 5:00pm on both days. Hope to see you there!
URL:https://sassysilverbeaddesigns.com/event/candy-dance-arts-crafts-fair/
LOCATION:Candy Dance Arts & Crafts Faire\, Geneo\, Nevada
END:VEVENT
BEGIN:VEVENT
DTSTART;VALUE=DATE:20210911
DTEND;VALUE=DATE:20210919
DTSTAMP:20260421T131752
CREATED:20210623T164434Z
LAST-MODIFIED:20210623T164434Z
UID:6938-1631318400-1632009599@sassysilverbeaddesigns.com
SUMMARY:High Roller Reining Classic
DESCRIPTION:
URL:https://sassysilverbeaddesigns.com/event/high-roller-reining-classic/
LOCATION:South Point Arena & Equestrian Center\, 9777 Las Vegas Blvd South\, Las Vegas\, NV\, 89183\, United States
END:VEVENT
END:VCALENDAR