BEGIN:VCALENDAR
VERSION:2.0
PRODID:-//Sassy Silver - ECPv6.15.20//NONSGML v1.0//EN
CALSCALE:GREGORIAN
METHOD:PUBLISH
X-ORIGINAL-URL:https://sassysilverbeaddesigns.com
X-WR-CALDESC:Events for Sassy Silver
REFRESH-INTERVAL;VALUE=DURATION:PT1H
X-Robots-Tag:noindex
X-PUBLISHED-TTL:PT1H
BEGIN:VTIMEZONE
TZID:UTC
BEGIN:STANDARD
TZOFFSETFROM:+0000
TZOFFSETTO:+0000
TZNAME:UTC
DTSTART:20200101T000000
END:STANDARD
END:VTIMEZONE
BEGIN:VEVENT
DTSTART;VALUE=DATE:20211002
DTEND;VALUE=DATE:20211004
DTSTAMP:20260421T164802
CREATED:20210623T172453Z
LAST-MODIFIED:20210623T172453Z
UID:6948-1633132800-1633305599@sassysilverbeaddesigns.com
SUMMARY:Art in the Park
DESCRIPTION:Oct 2 & 3 2021\nSat 9-5 & Sun 9-4\nBoulder City NV\nBicentennial Park Booth #320
URL:https://sassysilverbeaddesigns.com/event/art-in-the-park/
LOCATION:Art in the Park\, Boulder\, CO\, United States
END:VEVENT
BEGIN:VEVENT
DTSTART;VALUE=DATE:20210925
DTEND;VALUE=DATE:20210927
DTSTAMP:20260421T164802
CREATED:20210623T165157Z
LAST-MODIFIED:20210623T165157Z
UID:6936-1632528000-1632700799@sassysilverbeaddesigns.com
SUMMARY:Candy Dance Arts & Crafts Fair
DESCRIPTION:We will be at our booth from 9:00am to 5:00pm on both days. Hope to see you there!
URL:https://sassysilverbeaddesigns.com/event/candy-dance-arts-crafts-fair/
LOCATION:Candy Dance Arts & Crafts Faire\, Geneo\, Nevada
END:VEVENT
BEGIN:VEVENT
DTSTART;VALUE=DATE:20210911
DTEND;VALUE=DATE:20210919
DTSTAMP:20260421T164802
CREATED:20210623T164434Z
LAST-MODIFIED:20210623T164434Z
UID:6938-1631318400-1632009599@sassysilverbeaddesigns.com
SUMMARY:High Roller Reining Classic
DESCRIPTION:
URL:https://sassysilverbeaddesigns.com/event/high-roller-reining-classic/
LOCATION:South Point Arena & Equestrian Center\, 9777 Las Vegas Blvd South\, Las Vegas\, NV\, 89183\, United States
END:VEVENT
END:VCALENDAR